{"text_format":"3","workbook":"xlsx","n_sheets":3,"sheets":["Registrace zákazníka","Ceník 6.2014","Celková objednávka"],"not_rendered":{"images":31,"macros":1},"read":"whole","date_system":"1900"}

{"sheet":"Registrace zákazníka","index":0,"n_rows":24,"n_cols":4,"rows_kept":24}
[]
[]
["zákazník",null,null,"název- IČ"]
[]
[null,null,"Firma","zde vyplňte"]
[null,null,"Ulice","zde vyplňte"]
[null,null,"Město","zde vyplňte"]
[null,null,"DIČ","zde vyplňte"]
[null,null,"telefon","zde vyplňte"]
[null,null,"smlouva","zde vyplňte"]
[null,null,"mail","zde vyplňte"]
[null,null,"sleva",{"v":0.33,"d":"33%"}]
[]
[]
[]
[{"$nulls":3},"zastoupení  Valsir  v  ČR - Genova Bohemia spol. s.r.o."]
[{"$nulls":3},"Vídeňská 573, Vestec PSČ 252 42"]
[{"$nulls":3},"IČ          26188651"]
[{"$nulls":3},"DIČ CZ 26188651"]
[{"$nulls":3},"tel 2 4491 1288"]
[{"$nulls":3},"tel 2 4491 1283"]
[{"$nulls":3},"info@genovabohemia.cz"]
[{"$nulls":3},"objednavky@genovabohemia.cz"]
[{"$nulls":3},"Otevřeno- Po až Pá   7-18 hod  sobotní prodej  8-12 hod"]

{"sheet":"Ceník 6.2014","index":1,"n_rows":394,"n_cols":19,"rows_kept":394}
["HT odpadní systémy z polypropylenu ",{"$nulls":13},"Nastavená sleva",null,{"$f":"'Registrace zákazníka'!D12","v":{"v":0.33,"d":"33%"}}]
["HTEM"]
["HT trubky s hrdlem"]
["Číslo","Obrázek výrobku","COD.","CL","D","DN","L (mm)",{"$nulls":7},"HxLxP ","Brutto","Netto","obj. ks","Netto  celkem"]
[1,"HT trubky s hrdlem","VS0500001","PP01",32,30,150,{"$nulls":4},30,240,1440,"970x800x1200",22,{"$f":"Tabulka2[[#This Row],[Sloupec14]]*(100-$Q$1*100)/100","v":14.74},null,{"$f":"Tabulka2[[#This Row],[Sloupec15]]*R5","v":{"v":0,"d":"0.00 Kč"}}]
[{"$f":"A5+1","v":2},"HT trubky s hrdlem","VS0500003","PP01",32,30,250,{"$nulls":4},30,240,1440,"970x800x1200",25,{"$f":"Tabulka2[[#This Row],[Sloupec14]]*(100-$Q$1*100)/100","v":16.75},null,{"$f":"Tabulka2[[#This Row],[Sloupec15]]*R6","v":{"v":0,"d":"0.00 Kč"}}]
[{"$f":"A6+1","v":3},"HT trubky s hrdlem","VS0500005","PP01",32,30,500,{"$nulls":4},30,180,900,"905x800x1200",37,{"$f":"Tabulka2[[#This Row],[Sloupec14]]*(100-$Q$1*100)/100","v":24.79},null,{"$f":"Tabulka2[[#This Row],[Sloupec15]]*R7","v":{"v":0,"d":"0.00 Kč"}}]
[4,"HT trubky s hrdlem","VS0500007","PP01",32,30,750,{"$nulls":4},30,"-","-","-",51,{"$f":"Tabulka2[[#This Row],[Sloupec14]]*(100-$Q$1*100)/100","v":34.17},null,{"$f":"Tabulka2[[#This Row],[Sloupec15]]*R8","v":{"v":0,"d":"0.00 Kč"}}]
[5,"HT trubky s hrdlem","VS0500009","PP01",32,30,1000,{"$nulls":4},30,"-","-","-",59,{"$f":"Tabulka2[[#This Row],[Sloupec14]]*(100-$Q$1*100)/100","v":39.53},null,{"$f":"Tabulka2[[#This Row],[Sloupec15]]*R9","v":{"v":0,"d":"0.00 Kč"}}]
[6,"HT trubky s hrdlem","VS0500011","PP01",32,30,1500,{"$nulls":4},30,"-","-","-",81,{"$f":"Tabulka2[[#This Row],[Sloupec14]]*(100-$Q$1*100)/100","v":54.27},null,{"$f":"Tabulka2[[#This Row],[Sloupec15]]*R10","v":{"v":0,"d":"0.00 Kč"}}]
[7,"HT trubky s hrdlem","VS0500013","PP01",32,30,2000,{"$nulls":4},30,"-","-","-",123,{"$f":"Tabulka2[[#This Row],[Sloupec14]]*(100-$Q$1*100)/100","v":82.41},null,{"$f":"Tabulka2[[#This Row],[Sloupec15]]*R11","v":{"v":0,"d":"0.00 Kč"}}]
[8,"HT trubky s hrdlem","VS0500015","PP01",32,30,3000,{"$nulls":4},30,"-","-","-",175,{"$f":"Tabulka2[[#This Row],[Sloupec14]]*(100-$Q$1*100)/100","v":117.25},null,{"$f":"Tabulka2[[#This Row],[Sloupec15]]*R12","v":{"v":0,"d":"0.00 Kč"}}]
[9,"HT trubky s hrdlem","VS0500021","PP01",40,40,150,{"$nulls":4},30,240,1200,"1030x800x1200",22,{"$f":"Tabulka2[[#This Row],[Sloupec14]]*(100-$Q$1*100)/100","v":14.74},null,{"$f":"Tabulka2[[#This Row],[Sloupec15]]*R13","v":{"v":0,"d":"0.00 Kč"}}]
[10,"HT trubky s hrdlem","VS0500023","PP01",40,40,250,{"$nulls":4},30,240,960,"1010x800x1200",25,{"$f":"Tabulka2[[#This Row],[Sloupec14]]*(100-$Q$1*100)/100","v":16.75},null,{"$f":"Tabulka2[[#This Row],[Sloupec15]]*R14","v":{"v":0,"d":"0.00 Kč"}}]
[11,"HT trubky s hrdlem","VS0500025","PP01",40,40,500,{"$nulls":4},50,200,600,"970x800x1200",31,{"$f":"Tabulka2[[#This Row],[Sloupec14]]*(100-$Q$1*100)/100","v":20.77},null,{"$f":"Tabulka2[[#This Row],[Sloupec15]]*R15","v":{"v":0,"d":"0.00 Kč"}}]
[12,"HT trubky s hrdlem","VS0500027","PP01",40,40,750,{"$nulls":4},30,120,360,"880x800x1200",42,{"$f":"Tabulka2[[#This Row],[Sloupec14]]*(100-$Q$1*100)/100","v":28.14},null,{"$f":"Tabulka2[[#This Row],[Sloupec15]]*R16","v":{"v":0,"d":"0.00 Kč"}}]
[13,"HT trubky s hrdlem","VS0500029","PP01",40,40,1000,{"$nulls":4},30,"-","-","-",47,{"$f":"Tabulka2[[#This Row],[Sloupec14]]*(100-$Q$1*100)/100","v":31.49},null,{"$f":"Tabulka2[[#This Row],[Sloupec15]]*R17","v":{"v":0,"d":"0.00 Kč"}}]
[14,"HT trubky s hrdlem","VS0500031","PP01",40,40,1500,{"$nulls":4},30,"-","-","-",81,{"$f":"Tabulka2[[#This Row],[Sloupec14]]*(100-$Q$1*100)/100","v":54.27},null,{"$f":"Tabulka2[[#This Row],[Sloupec15]]*R18","v":{"v":0,"d":"0.00 Kč"}}]
[15,"HT trubky s hrdlem","VS0500033","PP01",40,40,2000,{"$nulls":4},30,"-","-","-",93,{"$f":"Tabulka2[[#This Row],[Sloupec14]]*(100-$Q$1*100)/100","v":62.31},null,{"$f":"Tabulka2[[#This Row],[Sloupec15]]*R19","v":{"v":0,"d":"0.00 Kč"}}]
[16,"HT trubky s hrdlem","VS0500035","PP01",40,40,3000,{"$nulls":4},30,"-","-","-",162,{"$f":"Tabulka2[[#This Row],[Sloupec14]]*(100-$Q$1*100)/100","v":108.54},null,{"$f":"Tabulka2[[#This Row],[Sloupec15]]*R20","v":{"v":0,"d":"0.00 Kč"}}]
[17,"HT trubky s hrdlem","VS0500041","PP01",50,50,150,{"$nulls":4},30,240,960,"1010x800x1200",24,{"$f":"Tabulka2[[#This Row],[Sloupec14]]*(100-$Q$1*100)/100","v":16.08},null,{"$f":"Tabulka2[[#This Row],[Sloupec15]]*R21","v":{"v":0,"d":"0.00 Kč"}}]
[18,"HT trubky s hrdlem","VS0500043","PP01",50,50,250,{"$nulls":4},30,240,720,"1015x800x1200",29,{"$f":"Tabulka2[[#This Row],[Sloupec14]]*(100-$Q$1*100)/100","v":19.43},null,{"$f":"Tabulka2[[#This Row],[Sloupec15]]*R22","v":{"v":0,"d":"0.00 Kč"}}]
[19,"HT trubky s hrdlem","VS0500045","PP01",50,50,500,{"$nulls":4},35,140,420,"970x800x1200",38,{"$f":"Tabulka2[[#This Row],[Sloupec14]]*(100-$Q$1*100)/100","v":25.46},null,{"$f":"Tabulka2[[#This Row],[Sloupec15]]*R23","v":{"v":0,"d":"0.00 Kč"}}]
[20,"HT trubky s hrdlem","VS0500047","PP01",50,50,750,{"$nulls":4},30,"-","-","-",57,{"$f":"Tabulka2[[#This Row],[Sloupec14]]*(100-$Q$1*100)/100","v":38.19},null,{"$f":"Tabulka2[[#This Row],[Sloupec15]]*R24","v":{"v":0,"d":"0.00 Kč"}}]
[21,"HT trubky s hrdlem","VS050004702","PP01",50,50,750,{"$nulls":4},260,"-","-","-",57,{"$f":"Tabulka2[[#This Row],[Sloupec14]]*(100-$Q$1*100)/100","v":38.19},null,{"$f":"Tabulka2[[#This Row],[Sloupec15]]*R25","v":{"v":0,"d":"0.00 Kč"}}]
[22,"HT trubky s hrdlem","VS0500049","PP01",50,50,1000,{"$nulls":4},30,"-","-","-",61,{"$f":"Tabulka2[[#This Row],[Sloupec14]]*(100-$Q$1*100)/100","v":40.87},null,{"$f":"Tabulka2[[#This Row],[Sloupec15]]*R26","v":{"v":0,"d":"0.00 Kč"}}]
[23,"HT trubky s hrdlem","VS050004902","PP01",50,50,1000,{"$nulls":4},260,"-","-","-",61,{"$f":"Tabulka2[[#This Row],[Sloupec14]]*(100-$Q$1*100)/100","v":40.87},null,{"$f":"Tabulka2[[#This Row],[Sloupec15]]*R27","v":{"v":0,"d":"0.00 Kč"}}]
[24,"HT trubky s hrdlem","VS0500051","PP01",50,50,1500,{"$nulls":4},30,"-","-","-",99,{"$f":"Tabulka2[[#This Row],[Sloupec14]]*(100-$Q$1*100)/100","v":66.33},null,{"$f":"Tabulka2[[#This Row],[Sloupec15]]*R28","v":{"v":0,"d":"0.00 Kč"}}]
[25,"HT trubky s hrdlem","VS050005102","PP01",50,50,1500,{"$nulls":4},260,"-","-","-",99,{"$f":"Tabulka2[[#This Row],[Sloupec14]]*(100-$Q$1*100)/100","v":66.33},null,{"$f":"Tabulka2[[#This Row],[Sloupec15]]*R29","v":{"v":0,"d":"0.00 Kč"}}]
[26,"HT trubky s hrdlem","VS0500053","PP01",50,50,2000,{"$nulls":4},30,"-","-","-",119,{"$f":"Tabulka2[[#This Row],[Sloupec14]]*(100-$Q$1*100)/100","v":79.73},null,{"$f":"Tabulka2[[#This Row],[Sloupec15]]*R30","v":{"v":0,"d":"0.00 Kč"}}]
[27,"HT trubky s hrdlem","VS050005302","PP01",50,50,2000,{"$nulls":4},260,"-","-","-",119,{"$f":"Tabulka2[[#This Row],[Sloupec14]]*(100-$Q$1*100)/100","v":79.73},null,{"$f":"Tabulka2[[#This Row],[Sloupec15]]*R31","v":{"v":0,"d":"0.00 Kč"}}]
[28,"HT trubky s hrdlem","VS0500055","PP01",50,50,3000,{"$nulls":4},30,"-","-","-",230,{"$f":"Tabulka2[[#This Row],[Sloupec14]]*(100-$Q$1*100)/100","v":154.1},null,{"$f":"Tabulka2[[#This Row],[Sloupec15]]*R32","v":{"v":0,"d":"0.00 Kč"}}]
[29,"HT trubky s hrdlem","VS0500061","PP01",75,70,150,{"$nulls":4},30,240,480,"1050x800x1200",43,{"$f":"Tabulka2[[#This Row],[Sloupec14]]*(100-$Q$1*100)/100","v":28.81},null,{"$f":"Tabulka2[[#This Row],[Sloupec15]]*R33","v":{"v":0,"d":"0.00 Kč"}}]
[30,"HT trubky s hrdlem","VS0500063","PP01",75,70,250,{"$nulls":4},20,160,320,"1050x800x1200",48,{"$f":"Tabulka2[[#This Row],[Sloupec14]]*(100-$Q$1*100)/100","v":32.16},null,{"$f":"Tabulka2[[#This Row],[Sloupec15]]*R34","v":{"v":0,"d":"0.00 Kč"}}]
[31,"HT trubky s hrdlem","VS0500065","PP01",75,70,500,{"$nulls":4},20,80,240,"1075x800x1200",68,{"$f":"Tabulka2[[#This Row],[Sloupec14]]*(100-$Q$1*100)/100","v":45.56},null,{"$f":"Tabulka2[[#This Row],[Sloupec15]]*R35","v":{"v":0,"d":"0.00 Kč"}}]
[32,"HT trubky s hrdlem","VS0500067","PP01",75,70,750,{"$nulls":4},25,"-","-","-",84,{"$f":"Tabulka2[[#This Row],[Sloupec14]]*(100-$Q$1*100)/100","v":56.28},null,{"$f":"Tabulka2[[#This Row],[Sloupec15]]*R36","v":{"v":0,"d":"0.00 Kč"}}]
[33,"HT trubky s hrdlem","VS050006702","PP01",75,70,750,{"$nulls":4},120,"-","-","-",84,{"$f":"Tabulka2[[#This Row],[Sloupec14]]*(100-$Q$1*100)/100","v":56.28},null,{"$f":"Tabulka2[[#This Row],[Sloupec15]]*R37","v":{"v":0,"d":"0.00 Kč"}}]
[34,"HT trubky s hrdlem","VS0500069","PP01",75,70,1000,{"$nulls":4},25,"-","-","-",99,{"$f":"Tabulka2[[#This Row],[Sloupec14]]*(100-$Q$1*100)/100","v":66.33},null,{"$f":"Tabulka2[[#This Row],[Sloupec15]]*R38","v":{"v":0,"d":"0.00 Kč"}}]
[35,"HT trubky s hrdlem","VS050006902","PP01",75,70,1000,{"$nulls":4},120,"-","-","-",99,{"$f":"Tabulka2[[#This Row],[Sloupec14]]*(100-$Q$1*100)/100","v":66.33},null,{"$f":"Tabulka2[[#This Row],[Sloupec15]]*R39","v":{"v":0,"d":"0.00 Kč"}}]
[36,"HT trubky s hrdlem","VS0500071","PP01",75,70,1500,{"$nulls":4},25,"-","-","-",146,{"$f":"Tabulka2[[#This Row],[Sloupec14]]*(100-$Q$1*100)/100","v":97.82},null,{"$f":"Tabulka2[[#This Row],[Sloupec15]]*R40","v":{"v":0,"d":"0.00 Kč"}}]
[37,"HT trubky s hrdlem","VS050007102","PP01",75,70,1500,{"$nulls":4},120,"-","-","-",146,{"$f":"Tabulka2[[#This Row],[Sloupec14]]*(100-$Q$1*100)/100","v":97.82},null,{"$f":"Tabulka2[[#This Row],[Sloupec15]]*R41","v":{"v":0,"d":"0.00 Kč"}}]
[38,"HT trubky s hrdlem","VS0500073","PP01",75,70,2000,{"$nulls":4},25,"-","-","-",176,{"$f":"Tabulka2[[#This Row],[Sloupec14]]*(100-$Q$1*100)/100","v":117.92},null,{"$f":"Tabulka2[[#This Row],[Sloupec15]]*R42","v":{"v":0,"d":"0.00 Kč"}}]
[39,"HT trubky s hrdlem","VS050007302","PP01",75,70,2000,{"$nulls":4},120,"-","-","-",176,{"$f":"Tabulka2[[#This Row],[Sloupec14]]*(100-$Q$1*100)/100","v":117.92},null,{"$f":"Tabulka2[[#This Row],[Sloupec15]]*R43","v":{"v":0,"d":"0.00 Kč"}}]
[40,"HT trubky s hrdlem","VS0500075","PP01",75,70,3000,{"$nulls":4},25,"-","-","-",294,{"$f":"Tabulka2[[#This Row],[Sloupec14]]*(100-$Q$1*100)/100","v":196.98},null,{"$f":"Tabulka2[[#This Row],[Sloupec15]]*R44","v":{"v":0,"d":"0.00 Kč"}}]
[41,"HT trubky s hrdlem","VS0599001","PP01",90,90,150,{"$nulls":4},24,96,384,"1050x800x1200",57,{"$f":"Tabulka2[[#This Row],[Sloupec14]]*(100-$Q$1*100)/100","v":38.19},null,{"$f":"Tabulka2[[#This Row],[Sloupec15]]*R45","v":{"v":0,"d":"0.00 Kč"}}]
[42,"HT trubky s hrdlem","VS0599003","PP01",90,90,250,{"$nulls":4},24,96,288,"1165x800x1200",60,{"$f":"Tabulka2[[#This Row],[Sloupec14]]*(100-$Q$1*100)/100","v":40.2},null,{"$f":"Tabulka2[[#This Row],[Sloupec15]]*R46","v":{"v":0,"d":"0.00 Kč"}}]
[43,"HT trubky s hrdlem","VS0599005","PP01",90,90,500,{"$nulls":4},24,96,192,"1300x800x1200",87,{"$f":"Tabulka2[[#This Row],[Sloupec14]]*(100-$Q$1*100)/100","v":58.29},null,{"$f":"Tabulka2[[#This Row],[Sloupec15]]*R47","v":{"v":0,"d":"0.00 Kč"}}]
[44,"HT trubky s hrdlem","VS0599009","PP01",90,90,1000,{"$nulls":4},20,"-","-","-",134,{"$f":"Tabulka2[[#This Row],[Sloupec14]]*(100-$Q$1*100)/100","v":89.78},null,{"$f":"Tabulka2[[#This Row],[Sloupec15]]*R48","v":{"v":0,"d":"0.00 Kč"}}]
[45,"HT trubky s hrdlem","VS059900902","PP01",90,90,1000,{"$nulls":4},96,"-","-","-",134,{"$f":"Tabulka2[[#This Row],[Sloupec14]]*(100-$Q$1*100)/100","v":89.78},null,{"$f":"Tabulka2[[#This Row],[Sloupec15]]*R49","v":{"v":0,"d":"0.00 Kč"}}]
[46,"HT trubky s hrdlem","VS0599011","PP01",90,90,1500,{"$nulls":4},20,"-","-","-",236,{"$f":"Tabulka2[[#This Row],[Sloupec14]]*(100-$Q$1*100)/100","v":158.12},null,{"$f":"Tabulka2[[#This Row],[Sloupec15]]*R50","v":{"v":0,"d":"0.00 Kč"}}]
[47,"HT trubky s hrdlem","VS0599013","PP01",90,90,2000,{"$nulls":4},20,"-","-","-",262,{"$f":"Tabulka2[[#This Row],[Sloupec14]]*(100-$Q$1*100)/100","v":175.54},null,{"$f":"Tabulka2[[#This Row],[Sloupec15]]*R51","v":{"v":0,"d":"0.00 Kč"}}]
[48,"HT trubky s hrdlem","VS059901302","PP01",90,90,2000,{"$nulls":4},96,"-","-","-",262,{"$f":"Tabulka2[[#This Row],[Sloupec14]]*(100-$Q$1*100)/100","v":175.54},null,{"$f":"Tabulka2[[#This Row],[Sloupec15]]*R52","v":{"v":0,"d":"0.00 Kč"}}]
[49,"HT trubky s hrdlem","VS0599015","PP01",90,90,3000,{"$nulls":4},20,"-","-","-",407,{"$f":"Tabulka2[[#This Row],[Sloupec14]]*(100-$Q$1*100)/100","v":272.69},null,{"$f":"Tabulka2[[#This Row],[Sloupec15]]*R53","v":{"v":0,"d":"0.00 Kč"}}]
[50,"HT trubky s hrdlem","VS0500081","PP01",110,100,150,{"$nulls":4},15,60,240,"1050x800x1200",65,{"$f":"Tabulka2[[#This Row],[Sloupec14]]*(100-$Q$1*100)/100","v":43.55},null,{"$f":"Tabulka2[[#This Row],[Sloupec15]]*R54","v":{"v":0,"d":"0.00 Kč"}}]
[51,"HT trubky s hrdlem","VS0500083","PP01",110,100,250,{"$nulls":4},15,60,180,"1165x800x1200",73,{"$f":"Tabulka2[[#This Row],[Sloupec14]]*(100-$Q$1*100)/100","v":48.91},null,{"$f":"Tabulka2[[#This Row],[Sloupec15]]*R55","v":{"v":0,"d":"0.00 Kč"}}]
[52,"HT trubky s hrdlem","VS0500085","PP01",110,100,500,{"$nulls":4},15,60,120,"1300x800x1200",119,{"$f":"Tabulka2[[#This Row],[Sloupec14]]*(100-$Q$1*100)/100","v":79.73},null,{"$f":"Tabulka2[[#This Row],[Sloupec15]]*R56","v":{"v":0,"d":"0.00 Kč"}}]
[53,"HT trubky s hrdlem","VS0500087","PP01",110,100,750,{"$nulls":4},15,"-","-","-",151,{"$f":"Tabulka2[[#This Row],[Sloupec14]]*(100-$Q$1*100)/100","v":101.17},null,{"$f":"Tabulka2[[#This Row],[Sloupec15]]*R57","v":{"v":0,"d":"0.00 Kč"}}]
[54,"HT trubky s hrdlem","VS050008702","PP01",110,100,750,{"$nulls":4},80,"-","-","-",151,{"$f":"Tabulka2[[#This Row],[Sloupec14]]*(100-$Q$1*100)/100","v":101.17},null,{"$f":"Tabulka2[[#This Row],[Sloupec15]]*R58","v":{"v":0,"d":"0.00 Kč"}}]
[55,"HT trubky s hrdlem","VS0500089","PP01",110,100,1000,{"$nulls":4},15,"-","-","-",184,{"$f":"Tabulka2[[#This Row],[Sloupec14]]*(100-$Q$1*100)/100","v":123.28},null,{"$f":"Tabulka2[[#This Row],[Sloupec15]]*R59","v":{"v":0,"d":"0.00 Kč"}}]
[56,"HT trubky s hrdlem","VS050008902","PP01",110,100,1000,{"$nulls":4},80,"-","-","-",184,{"$f":"Tabulka2[[#This Row],[Sloupec14]]*(100-$Q$1*100)/100","v":123.28},null,{"$f":"Tabulka2[[#This Row],[Sloupec15]]*R60","v":{"v":0,"d":"0.00 Kč"}}]
[57,"HT trubky s hrdlem","VS0500091","PP01",110,100,1500,{"$nulls":4},15,"-","-","-",284,{"$f":"Tabulka2[[#This Row],[Sloupec14]]*(100-$Q$1*100)/100","v":190.28},null,{"$f":"Tabulka2[[#This Row],[Sloupec15]]*R61","v":{"v":0,"d":"0.00 Kč"}}]
[58,"HT trubky s hrdlem","VS050009102","PP01",110,100,1500,{"$nulls":4},80,"-","-","-",284,{"$f":"Tabulka2[[#This Row],[Sloupec14]]*(100-$Q$1*100)/100","v":190.28},null,{"$f":"Tabulka2[[#This Row],[Sloupec15]]*R62","v":{"v":0,"d":"0.00 Kč"}}]
[59,"HT trubky s hrdlem","VS0500093","PP01",110,100,2000,{"$nulls":4},15,"-","-","-",340,{"$f":"Tabulka2[[#This Row],[Sloupec14]]*(100-$Q$1*100)/100","v":227.8},null,{"$f":"Tabulka2[[#This Row],[Sloupec15]]*R63","v":{"v":0,"d":"0.00 Kč"}}]
[60,"HT trubky s hrdlem","VS050009302","PP01",110,100,2000,{"$nulls":4},80,"-","-","-",340,{"$f":"Tabulka2[[#This Row],[Sloupec14]]*(100-$Q$1*100)/100","v":227.8},null,{"$f":"Tabulka2[[#This Row],[Sloupec15]]*R64","v":{"v":0,"d":"0.00 Kč"}}]
[61,"HT trubky s hrdlem","VS0500095","PP01",110,100,3000,{"$nulls":4},15,"-","-","-",551,{"$f":"Tabulka2[[#This Row],[Sloupec14]]*(100-$Q$1*100)/100","v":369.17},null,{"$f":"Tabulka2[[#This Row],[Sloupec15]]*R65","v":{"v":0,"d":"0.00 Kč"}}]
[62,"HT trubky s hrdlem","VS0500101","PP01",125,125,150,{"$nulls":4},10,80,160,"1050x800x1200",93,{"$f":"Tabulka2[[#This Row],[Sloupec14]]*(100-$Q$1*100)/100","v":62.31},null,{"$f":"Tabulka2[[#This Row],[Sloupec15]]*R66","v":{"v":0,"d":"0.00 Kč"}}]
[63,"HT trubky s hrdlem","VS0500103","PP01",125,125,250,{"$nulls":4},10,40,120,"1165x800x1200",116,{"$f":"Tabulka2[[#This Row],[Sloupec14]]*(100-$Q$1*100)/100","v":77.72},null,{"$f":"Tabulka2[[#This Row],[Sloupec15]]*R67","v":{"v":0,"d":"0.00 Kč"}}]
[64,"HT trubky s hrdlem","VS0500105","PP01",125,125,500,{"$nulls":4},6,48,96,"1340x800x1200",163,{"$f":"Tabulka2[[#This Row],[Sloupec14]]*(100-$Q$1*100)/100","v":109.21},null,{"$f":"Tabulka2[[#This Row],[Sloupec15]]*R68","v":{"v":0,"d":"0.00 Kč"}}]
[65,"HT trubky s hrdlem","VS0500107","PP01",125,125,750,{"$nulls":4},8,"-","-","-",203,{"$f":"Tabulka2[[#This Row],[Sloupec14]]*(100-$Q$1*100)/100","v":136.01},null,{"$f":"Tabulka2[[#This Row],[Sloupec15]]*R69","v":{"v":0,"d":"0.00 Kč"}}]
[66,"HT trubky s hrdlem","VS0500109","PP01",125,125,1000,{"$nulls":4},10,"-","-","-",268,{"$f":"Tabulka2[[#This Row],[Sloupec14]]*(100-$Q$1*100)/100","v":179.56},null,{"$f":"Tabulka2[[#This Row],[Sloupec15]]*R70","v":{"v":0,"d":"0.00 Kč"}}]
[{"$f":"A70+1","v":67},"HT trubky s hrdlem","VS0500111","PP01",125,125,1500,{"$nulls":4},10,"-","-","-",321,{"$f":"Tabulka2[[#This Row],[Sloupec14]]*(100-$Q$1*100)/100","v":215.07},null,{"$f":"Tabulka2[[#This Row],[Sloupec15]]*R71","v":{"v":0,"d":"0.00 Kč"}}]
[68,"HT trubky s hrdlem","VS0500113","PP01",125,125,2000,{"$nulls":4},10,"-","-","-",412,{"$f":"Tabulka2[[#This Row],[Sloupec14]]*(100-$Q$1*100)/100","v":276.04},null,{"$f":"Tabulka2[[#This Row],[Sloupec15]]*R72","v":{"v":0,"d":"0.00 Kč"}}]
[69,"HT trubky s hrdlem","VS0500115","PP01",125,125,3000,{"$nulls":4},10,"-","-","-",704,{"$f":"Tabulka2[[#This Row],[Sloupec14]]*(100-$Q$1*100)/100","v":471.68},null,{"$f":"Tabulka2[[#This Row],[Sloupec15]]*R73","v":{"v":0,"d":"0.00 Kč"}}]
[70,"HT trubky s hrdlem","VS0500121","PP01",160,150,150,{"$nulls":4},10,"-","-","-",181,{"$f":"Tabulka2[[#This Row],[Sloupec14]]*(100-$Q$1*100)/100","v":121.27},null,{"$f":"Tabulka2[[#This Row],[Sloupec15]]*R74","v":{"v":0,"d":"0.00 Kč"}}]
[71,"HT trubky s hrdlem","VS0500123","PP01",160,150,250,{"$nulls":4},10,"-","-","-",218,{"$f":"Tabulka2[[#This Row],[Sloupec14]]*(100-$Q$1*100)/100","v":146.06},null,{"$f":"Tabulka2[[#This Row],[Sloupec15]]*R75","v":{"v":0,"d":"0.00 Kč"}}]
[72,"HT trubky s hrdlem","VS0500125","PP01",160,150,500,{"$nulls":4},10,"-","-","-",330,{"$f":"Tabulka2[[#This Row],[Sloupec14]]*(100-$Q$1*100)/100","v":221.1},null,{"$f":"Tabulka2[[#This Row],[Sloupec15]]*R76","v":{"v":0,"d":"0.00 Kč"}}]
[73,"HT trubky s hrdlem","VS0500129","PP01",160,150,1000,{"$nulls":4},10,"-","-","-",471,{"$f":"Tabulka2[[#This Row],[Sloupec14]]*(100-$Q$1*100)/100","v":315.57},null,{"$f":"Tabulka2[[#This Row],[Sloupec15]]*R77","v":{"v":0,"d":"0.00 Kč"}}]
[74,"HT trubky s hrdlem","VS0500131","PP01",160,150,1500,{"$nulls":4},10,"-","-","-",596,{"$f":"Tabulka2[[#This Row],[Sloupec14]]*(100-$Q$1*100)/100","v":399.32},null,{"$f":"Tabulka2[[#This Row],[Sloupec15]]*R78","v":{"v":0,"d":"0.00 Kč"}}]
[75,"HT trubky s hrdlem","VS0500133","PP01",160,150,2000,{"$nulls":4},10,"-","-","-",757,{"$f":"Tabulka2[[#This Row],[Sloupec14]]*(100-$Q$1*100)/100","v":507.19},null,{"$f":"Tabulka2[[#This Row],[Sloupec15]]*R79","v":{"v":0,"d":"0.00 Kč"}}]
[76,"HT trubky s hrdlem","VS0500135","PP01",160,150,3000,{"$nulls":4},10,"-","-","-",1075,{"$f":"Tabulka2[[#This Row],[Sloupec14]]*(100-$Q$1*100)/100","v":720.25},null,{"$f":"Tabulka2[[#This Row],[Sloupec15]]*R80","v":{"v":0,"d":"0.00 Kč"}}]
["HTGL"]
["HT trubky bez hrdla"]
["Číslo","Obrázek výrobku","COD.","CL","D","DN","L (mm)",{"$nulls":8},"Kč/ks","Netto",null,"Netto  celkem"]
[{"$f":"A80+1","v":77},"HT trubky bez hrdla","VS0500019","PP01",32,30,5000,{"$nulls":7},50,254,{"$f":"P84*(100-$Q$1*100)/100","v":170.18},null,{"$f":"R84*Q84","v":{"v":0,"d":"0.00 Kč"}}]
[{"$f":"A84+1","v":78},"HT trubky bez hrdla","VS0500039","PP01",40,40,5000,{"$nulls":7},50,211,141.37,null,{"v":0,"d":"0.00 Kč"}]
[79,"HT trubky bez hrdla","VS0500059","PP01",50,50,5000,{"$nulls":7},50,263,176.21,null,{"v":0,"d":"0.00 Kč"}]
[80,"HT trubky bez hrdla","VS0500079","PP01",75,70,5000,{"$nulls":7},30,383,256.61,null,{"v":0,"d":"0.00 Kč"}]
[81,"HT trubky bez hrdla","VS050007902","PP01",75,70,5000,{"$nulls":7},105,383,256.61,null,{"v":0,"d":"0.00 Kč"}]
[82,"HT trubky bez hrdla","VS0599019","PP01",90,90,5000,{"$nulls":7},20,560,375.2,null,{"v":0,"d":"0.00 Kč"}]
[83,"HT trubky bez hrdla","VS0500099","PP01",110,100,5000,{"$nulls":7},15,737,493.79,null,{"v":0,"d":"0.00 Kč"}]
[84,"HT trubky bez hrdla","VS050009902","PP01",110,100,5000,{"$nulls":7},100,737,493.79,null,{"v":0,"d":"0.00 Kč"}]
[85,"HT trubky bez hrdla","VS0500119","PP01",125,125,5000,{"$nulls":7},10,1118,749.06,null,{"v":0,"d":"0.00 Kč"}]
["HTB"]
["HT koleno"]
["Číslo","Obrázek výrobku","COD.","CL","D","DN","α",{"$nulls":7},"HxLxP ","Kč/ks","Netto",null,"Netto  celkem"]
[{"$f":"A92+1","v":86},"HT koleno","VS0504001","PP02",32,30,"15°",{"$nulls":4},80,640,3840,"970x800x1200",22,{"$f":"P96*(100-$Q$1*100)/100","v":14.74},null,{"$f":"R96*Q96","v":{"v":0,"d":"0.00 Kč"}}]
[{"$f":"A96+1","v":87},"HT koleno","VS0504003","PP02",32,30,"30°",{"$nulls":4},80,640,3840,"970x800x1200",22,{"$f":"P97*(100-$Q$1*100)/100","v":14.74},null,{"v":0,"d":"0.00 Kč"}]
[88,"HT koleno","VS0504005","PP02",32,30,"45°",{"$nulls":4},80,640,2560,"850x800x1200",22,{"$f":"P98*(100-$Q$1*100)/100","v":14.74},null,{"v":0,"d":"0.00 Kč"}]
[89,"HT koleno","VS0504007","PP02",32,30,"67°30'",{"$nulls":4},60,480,2880,"970x800x1200",22,14.74,null,{"v":0,"d":"0.00 Kč"}]
[90,"HT koleno","VS0504009","PP02",32,30,"80°",{"$nulls":4},60,480,2880,"970x800x1200",24,16.08,null,{"v":0,"d":"0.00 Kč"}]
[91,"HT koleno","VS0504011","PP02",32,30,"87°30'",{"$nulls":4},60,480,2880,"970x800x1200",22,14.74,null,{"v":0,"d":"0.00 Kč"}]
[92,"HT koleno","VS0504013","PP02",40,40,"15°",{"$nulls":4},50,400,1600,"850x800x1200",17,11.39,null,{"v":0,"d":"0.00 Kč"}]
[93,"HT koleno","VS0504015","PP02",40,40,"30°",{"$nulls":4},50,400,1600,"850x800x1200",17,11.39,null,{"v":0,"d":"0.00 Kč"}]
[94,"HT koleno","VS0504017","PP02",40,40,"45°",{"$nulls":4},50,400,1600,"850x800x1200",17,11.39,null,{"v":0,"d":"0.00 Kč"}]
[95,"HT koleno","VS0504019","PP02",40,40,"67°30'",{"$nulls":4},50,400,1600,"1010x800x1200",18,12.06,null,{"v":0,"d":"0.00 Kč"}]
[96,"HT koleno","VS0504021","PP02",40,40,"80°",{"$nulls":4},50,400,1600,"1010x800x1200",20,13.4,null,{"v":0,"d":"0.00 Kč"}]
[97,"HT koleno","VS0504023","PP02",40,40,"87°30'",{"$nulls":4},50,400,1600,"1010x800x1200",18,12.06,null,{"v":0,"d":"0.00 Kč"}]
[98,"HT koleno","VS0504025","PP02",50,50,"15°",{"$nulls":4},30,240,960,"850x800x1200",19,12.73,null,{"v":0,"d":"0.00 Kč"}]
[99,"HT koleno","VS0504027","PP02",50,50,"30°",{"$nulls":4},30,240,960,"850x800x1200",19,12.73,null,{"v":0,"d":"0.00 Kč"}]
[100,"HT koleno","VS0504029","PP02",50,50,"45°",{"$nulls":4},30,240,960,"850x800x1200",19,12.73,null,{"v":0,"d":"0.00 Kč"}]
[101,"HT koleno","VS0504031","PP02",50,50,"67°30'",{"$nulls":4},30,240,960,"850x800x1200",20,13.4,null,{"v":0,"d":"0.00 Kč"}]
[102,"HT koleno","VS0504033","PP02",50,50,"80°",{"$nulls":4},30,240,960,"850x800x1200",23,15.41,null,{"v":0,"d":"0.00 Kč"}]
[103,"HT koleno","VS0504035","PP02",50,50,"87°30'",{"$nulls":4},30,240,960,"850x800x1200",20,13.4,null,{"v":0,"d":"0.00 Kč"}]
[104,"HT koleno","VS0504037","PP02",75,70,"15°",{"$nulls":4},20,160,640,"1010x800x1200",32,21.44,null,{"v":0,"d":"0.00 Kč"}]
[105,"HT koleno","VS0504039","PP02",75,70,"30°",{"$nulls":4},20,160,640,"1010x800x1200",32,21.44,null,{"v":0,"d":"0.00 Kč"}]
[106,"HT koleno","VS0504041","PP02",75,70,"45°",{"$nulls":4},20,160,480,"1015x800x1200",32,21.44,null,{"v":0,"d":"0.00 Kč"}]
[107,"HT koleno","VS0504043","PP02",75,70,"67°30'",{"$nulls":4},20,160,480,"1015x800x1200",34,22.78,null,{"v":0,"d":"0.00 Kč"}]
[108,"HT koleno","VS0504045","PP02",75,70,"80°",{"$nulls":4},20,160,480,"1015x800x1200",40,26.8,null,{"v":0,"d":"0.00 Kč"}]
[109,"HT koleno","VS0504047","PP02",75,70,"87°30'",{"$nulls":4},20,160,480,"1015x800x1200",34,22.78,null,{"v":0,"d":"0.00 Kč"}]
[110,"HT koleno","VS0599041","PP02",90,90,"15°",{"$nulls":4},20,160,480,"1015x800x1200",41,27.47,null,{"v":0,"d":"0.00 Kč"}]
[111,"HT koleno","VS0599043","PP02",90,90,"30°",{"$nulls":4},20,160,320,"1050x800x1200",41,27.47,null,{"v":0,"d":"0.00 Kč"}]
[112,"HT koleno","VS0599045","PP02",90,90,"45°",{"$nulls":4},20,80,240,"853x800x1200",41,27.47,null,{"v":0,"d":"0.00 Kč"}]
[113,"HT koleno","VS0599047","PP02",90,90,"67°30'",{"$nulls":4},20,80,240,"853x800x1200",42,28.14,null,{"v":0,"d":"0.00 Kč"}]
[114,"HT koleno","VS0599051","PP02",90,90,"87°30'",{"$nulls":4},20,80,240,"853x800x1200",42,28.14,null,{"v":0,"d":"0.00 Kč"}]
[115,"HT koleno","VS0504049","PP02",110,100,"15°",{"$nulls":4},20,80,240,"970x800x1200",47,31.49,null,{"v":0,"d":"0.00 Kč"}]
[116,"HT koleno","VS0504051","PP02",110,100,"30°",{"$nulls":4},20,80,240,"970x800x1200",47,31.49,null,{"v":0,"d":"0.00 Kč"}]
[117,"HT koleno","VS0504053","PP02",110,100,"45°",{"$nulls":4},20,80,240,"1039x800x1200",47,31.49,null,{"v":0,"d":"0.00 Kč"}]
[118,"HT koleno","VS0504055","PP02",110,100,"67°30'",{"$nulls":4},20,80,160,"940x800x1200",48,32.16,null,{"v":0,"d":"0.00 Kč"}]
[119,"HT koleno","VS0504057","PP02",110,100,"80°",{"$nulls":4},20,80,160,"940x800x1200",54,36.18,null,{"v":0,"d":"0.00 Kč"}]
[120,"HT koleno","VS0504059","PP02",110,100,"87°30'",{"$nulls":4},20,80,160,"940x800x1200",48,32.16,null,{"v":0,"d":"0.00 Kč"}]
[121,"HT koleno","VS0504061","PP02",125,125,"15°",{"$nulls":4},20,80,160,"940x800x1200",158,105.86,null,{"v":0,"d":"0.00 Kč"}]
[122,"HT koleno","VS0504063","PP02",125,125,"30°",{"$nulls":4},20,80,160,"940x800x1200",158,105.86,null,{"v":0,"d":"0.00 Kč"}]
[123,"HT koleno","VS0504065","PP02",125,125,"45°",{"$nulls":4},15,60,120,"940x800x1200",158,105.86,null,{"v":0,"d":"0.00 Kč"}]
[124,"HT koleno","VS0504067","PP02",125,125,"67°30'",{"$nulls":4},15,60,120,"940x800x1200",166,111.22,null,{"v":0,"d":"0.00 Kč"}]
[125,"HT koleno","VS0504069","PP02",125,125,"80°",{"$nulls":4},15,60,120,"940x800x1200",170,113.9,null,{"v":0,"d":"0.00 Kč"}]
[126,"HT koleno","VS0504071","PP02",125,125,"87°30'",{"$nulls":4},10,40,120,"1039x800x1200",166,111.22,null,{"v":0,"d":"0.00 Kč"}]
[127,"HT koleno","VS0504073","PP02",160,150,"15°",{"$nulls":4},10,40,80,"940x800x1200",232,155.44,null,{"v":0,"d":"0.00 Kč"}]
[128,"HT koleno","VS0504075","PP02",160,150,"30°",{"$nulls":4},10,40,80,"940x800x1200",232,155.44,null,{"v":0,"d":"0.00 Kč"}]
[129,"HT koleno","VS0504077","PP02",160,150,"45°",{"$nulls":4},10,40,80,"940x800x1200",244,163.48,null,{"v":0,"d":"0.00 Kč"}]
[130,"HT koleno","VS0504083","PP02",160,150,"87°30'",{"$nulls":4},10,40,80,"1300x800x1200",244,163.48,null,{"$f":"R140*Q140","v":{"v":0,"d":"0.00 Kč"}}]
["HTRE"]
["HT čistící kus"]
["Číslo","Obrázek výrobku","COD.","CL","D","DN",{"$nulls":8},"HxLxP ","Kč/ks","Netto",null,"Netto  celkem"]
[{"$f":"A140+1","v":131},"HT čistící kus","VS0516003","PP02",50,50,{"$nulls":5},20,160,480,"1015x800x1200",104,{"$f":"P144*(100-$Q$1*100)/100","v":69.68},null,{"$f":"R144*Q144","v":{"v":0,"d":"0.00 Kč"}}]
[{"$f":"A144+1","v":132},"HT čistící kus","VS0516005","PP02",75,70,{"$nulls":5},20,80,240,"853x800x1200",107,71.69,null,{"v":0,"d":"0.00 Kč"}]
[133,"HT čistící kus","VS0599151","PP02",90,90,{"$nulls":5},20,80,160,"940x800x1200",122,81.74,null,{"v":0,"d":"0.00 Kč"}]
[134,"HT čistící kus","VS0516007","PP02",110,100,{"$nulls":5},15,60,120,"940x800x1200",132,88.44,null,{"v":0,"d":"0.00 Kč"}]
[135,"HT čistící kus","VS0516009","PP02",125,125,{"$nulls":5},10,40,80,"940x800x1200",340,227.8,null,{"v":0,"d":"0.00 Kč"}]
[136,"HT čistící kus","VS0516011","PP02",160,150,{"$nulls":5},5,20,40,"940x800x1200",539,361.13,null,{"v":0,"d":"0.00 Kč"}]
[]
["HTDA"]
["HT dvojitá odbočka"]
["Číslo",null,"COD.","CL","D1/D2","DN1/DN2","α",{"$nulls":7},"HxLxP ","Kč/ks","Netto",null,"Netto  celkem"]
[{"$f":"A149+1","v":137},"HT dvojitá odbočka","VS0506001","PP02","50/50","50/50","67°30’",{"$nulls":4},20,160,480,"1015x800x1200",186,{"$f":"P154*(100-$Q$1*100)/100","v":124.62},null,{"$f":"R154*Q154","v":{"v":0,"d":"0.00 Kč"}}]
[{"$f":"A154+1","v":138},"HT dvojitá odbočka","VS0506005","PP02","75/75","70/70","67°30’",{"$nulls":4},10,40,120,"853x800x1200",220,147.4,null,{"v":0,"d":"0.00 Kč"}]
[139,"HT dvojitá odbočka","VS0599085","PP02","90/40","90/40","45°",{"$nulls":4},15,60,180,"853x800x1200",220,147.4,null,{"v":0,"d":"0.00 Kč"}]
[140,"HT dvojitá odbočka","VS0599087","PP02","90/50","90/50","45°",{"$nulls":4},15,60,180,"970x800x1200",190,127.3,null,{"v":0,"d":"0.00 Kč"}]
[141,"HT dvojitá odbočka","VS0506008","PP02","110/50","100/50","45°",{"$nulls":4},10,40,120,"853x800x1200",190,127.3,null,{"v":0,"d":"0.00 Kč"}]
[142,"HT dvojitá odbočka","VS0506009","PP02","110/50","100/50","67°30’",{"$nulls":4},10,40,120,"853x800x1200",230,154.1,null,{"v":0,"d":"0.00 Kč"}]
[143,"HT dvojitá odbočka","VS0506011","PP02","110/50","100/50","87°30’",{"$nulls":4},10,40,120,"853x800x1200",203,136.01,null,{"v":0,"d":"0.00 Kč"}]
[144,"HT dvojitá odbočka","VS0506013","PP02","110/110","100/100","67°30’",{"$nulls":4},5,20,60,"970x800x1200",203,136.01,null,{"v":0,"d":"0.00 Kč"}]
[145,"HT dvojitá odbočka","VS0506015","PP02","110/110","100/100","87°30’",{"$nulls":4},5,20,60,"970x800x1200",211,141.37,null,{"v":0,"d":"0.00 Kč"}]
[]
["HTED"]
["HT D1 67°30' rohová dvojodbočka"]
["Číslo","Obrázek výrobku","COD.","CL","D1/D2/D3","DN1/DN2/DN3","α",{"$nulls":7},"HxLxP ","Kč/ks","Netto",null,"Netto  celkem"]
[{"$f":"A162+1","v":146},"HT D1 67°30' rohová dvojodbočka","VS0512001","PP02","110/110/110","100/100/100","67°30’",{"$nulls":4},5,20,60,"1039x800x1200",412,{"$f":"P167*(100-$Q$1*100)/100","v":276.04},null,{"$f":"R167*Q167","v":{"v":0,"d":"0.00 Kč"}}]
[{"$f":"A167+1","v":147},"HT D1 67°30' rohová dvojodbočka","VS0512003","PP02","110/50/110","100/50/100","67°30’",{"$nulls":4},5,20,60,"970x800x1200",431,288.77,null,{"v":0,"d":"0.00 Kč"}]
[148,"HT D1 67°30' rohová dvojodbočka","VS0512005","PP02","110/110/50","100/100/50","67°30’",{"$nulls":4},5,20,60,"970x800x1200",431,288.77,null,{"v":0,"d":"0.00 Kč"}]
[149,"HT D1 67°30' rohová dvojodbočka","VS0512007","PP02","110/50/50","100/50/50","67°30’",{"$nulls":4},10,40,120,"853x800x1200",431,288.77,null,{"v":0,"d":"0.00 Kč"}]
[]
["HT redukce"]
["Číslo","Obrázek výrobku","COD.","CL","D/D1","DN/DN1",{"$nulls":8},"HxLxP ","Kč/ks","Netto",null,"Netto  celkem"]
[{"$f":"A170+1","v":150},"HT redukce","VS0700033","PP02","40/50","40/50",{"$nulls":5},30,240,1680,"970x800x1200",45,{"$f":"P174*(100-$Q$1*100)/100","v":30.15},null,{"$f":"R174*Q174","v":{"v":0,"d":"0.00 Kč"}}]
[{"$f":"A174+1","v":151},"HT redukce","VS0700034","PP02","32/40","30/40",{"$nulls":5},30,240,1920,"930x800x1200",45,30.15,null,{"v":0,"d":"0.00 Kč"}]
[]
["HTR"]
["HT redukce – varianta A dlouhá, varianta B krátká"]
["Číslo","Obrázek výrobku","COD.","CL","D/D1","DN/DN1","Z1","L","L1","L2","Mod.",{"$nulls":3},"HxLxP ","Kč/ks","Netto",null,"Netto  celkem"]
[{"$f":"A175+1","v":152},"HT redukce – varianta A dlouhá, varianta B krátká","VS0514001","PP02","40/32","40/30",12,98,41,44,"B",50,400,2400,"970x800x1200",29,{"$f":"P180*(100-$Q$1*100)/100","v":19.43},null,{"$f":"R180*Q180","v":{"v":0,"d":"0.00 Kč"}}]
[{"$f":"A180+1","v":153},"HT redukce – varianta A dlouhá, varianta B krátká","VS0514002","PP02","50/32","50/30",15,98,38,44,"B",40,320,1920,"970x800x1200",36,24.12,null,{"v":0,"d":"0.00 Kč"}]
[154,"HT redukce – varianta A dlouhá, varianta B krátká","VS0514003","PP02","50/40","50/40",13,125,51,58,"B",50,400,1600,"1010x800x1200",23,15.41,null,{"v":0,"d":"0.00 Kč"}]
[155,"HT redukce – varianta A dlouhá, varianta B krátká","VS0514005","PP02","75/40","70/40",54,75,60,58,"A",30,240,960,"850x800x1200",47,31.49,null,{"v":0,"d":"0.00 Kč"}]
[156,"HT redukce – varianta A dlouhá, varianta B krátká","VS0514007","PP02","75/50","70/50",50,75,59,58,"A",30,240,960,"850x800x1200",28,18.76,null,{"v":0,"d":"0.00 Kč"}]
[157,"HT redukce – varianta A dlouhá, varianta B krátká","VS0599131","PP02","90/40","90/40","-",77,61,46.5,"A",20,160,640,"850x800x1200",31,20.77,null,{"v":0,"d":"0.00 Kč"}]
[158,"HT redukce – varianta A dlouhá, varianta B krátká","VS0599133","PP02","90/50","90/50","-",76,61,45.5,"A",20,160,640,"850x800x1200",31,20.77,null,{"v":0,"d":"0.00 Kč"}]
[159,"HT redukce – varianta A dlouhá, varianta B krátká","VS0514009","PP02","110/50","100/50",50,82,66,54,"A",20,160,640,"1010x800x1200",36,24.12,null,{"v":0,"d":"0.00 Kč"}]
[160,"HT redukce – varianta A dlouhá, varianta B krátká","VS0514011","PP02","110/75","100/70",55,82,66,56,"A",20,160,640,"1010x800x1200",40,26.8,null,{"v":0,"d":"0.00 Kč"}]
[161,"HT redukce – varianta A dlouhá, varianta B krátká","VS0514013","PP02","125/75","125/70",55,85,70,55,"A",20,160,480,"1015x800x1200",78,52.26,null,{"v":0,"d":"0.00 Kč"}]
[162,"HT redukce – varianta A dlouhá, varianta B krátká","VS0514015","PP02","125/110","125/100",60,86,68,61,"A",30,120,360,"853x800x1200",78,52.26,null,{"v":0,"d":"0.00 Kč"}]
[163,"HT redukce – varianta A dlouhá, varianta B krátká","VS0514017","PP02","160/110","150/100",80,173,97,81,"A",20,80,240,"940x800x1200",203,136.01,null,{"v":0,"d":"0.00 Kč"}]
[164,"HT redukce – varianta A dlouhá, varianta B krátká","VS0514019","PP02","160/125","150/125",80,160,92,82,"A",20,80,240,"940x800x1200",214,143.38,null,{"v":0,"d":"0.00 Kč"}]
[]
["HTSW"]
["HT sifonové koleno s pryžovou manžentou"]
["Číslo","Obrázek výrobku","COD.","CL","D/D1","D2","DN1/DN2","Z1","L","L1","L2",{"$nulls":3},"HxLxP ","Kč/ks","Netto",null,"Netto  celkem"]
[{"$f":"A192+1","v":165},"HT sifonové koleno s pryžovou manžentou","VS0518003","PP02","32/46","24-32","30/40",23,50,51,27,40,320,1280,"850x800x1200",37,{"$f":"P197*(100-$Q$1*100)/100","v":24.79},null,{"$f":"R197*Q197","v":{"v":0,"d":"0.00 Kč"}}]
[{"$f":"A197+1","v":166},"HT sifonové koleno s pryžovou manžentou","VS0518007","PP02","40/46","24-32","40/40",23,50,51,30,40,320,1280,"850x800x1200",37,24.79,null,{"v":0,"d":"0.00 Kč"}]
[167,"HT sifonové koleno s pryžovou manžentou","VS0518009","PP02","40/46","36-40","40/40",23,50,51,30,40,320,1280,"850x800x1200",37,24.79,null,{"v":0,"d":"0.00 Kč"}]
[168,"HT sifonové koleno s pryžovou manžentou","VS0518013","PP02","40/53,5","24-32","40/50",28,52,52,27,20,160,960,"970x800x1200",37,24.79,null,{"v":0,"d":"0.00 Kč"}]
[169,"HT sifonové koleno s pryžovou manžentou","VS0518015","PP02","40/53,5","36-40","40/50",28,52,52,27,20,160,960,"970x800x1200",37,24.79,null,{"v":0,"d":"0.00 Kč"}]
[170,"HT sifonové koleno s pryžovou manžentou","VS0518017","PP02","50/53,5","24-32","50/50",28,52,52,28,20,160,960,"970x800x1200",42,28.14,null,{"v":0,"d":"0.00 Kč"}]
[171,"HT sifonové koleno s pryžovou manžentou","VS0518019","PP02","50/53,5","36-40","50/50",28,52,52,28,20,160,960,"970x800x1200",42,28.14,null,{"v":0,"d":"0.00 Kč"}]
[172,"HT sifonové koleno s pryžovou manžentou","VS0518021","PP02","50/60","46-55","50/50",28,52,52,28,20,160,960,"970x800x1200",53,35.51,null,{"v":0,"d":"0.00 Kč"}]
[]
["HTSW"]
["HT sifonové koleno s přechodem na litinu"]
["Číslo","Obrázek výrobku","COD.","CL","D/D1","DN/DN1","Z1","L","L1","L2",{"$nulls":4},"HxLxP ","Kč/ks","Netto",null,"Netto  celkem"]
[{"$f":"A204+1","v":173},"HT sifonové koleno s přechodem na litinu","VS0518103","PP02","32/46","30/40",23,50,51,27,null,40,320,1280,"850x800x1200",43,{"$f":"P209*(100-$Q$1*100)/100","v":28.81},null,{"$f":"R209*Q209","v":{"v":0,"d":"0.00 Kč"}}]
[{"$f":"A209+1","v":174},"HT sifonové koleno s přechodem na litinu","VS0518107","PP02","40/46","40/40",23,50,51,30,null,40,320,1280,"850x800x1200",43,28.81,null,{"v":0,"d":"0.00 Kč"}]
[]
["HTS"]
["HT přechod přímý s pryžovou manžentou"]
["Číslo","Obrázek výrobku","COD.","CL","D/D1","D2","DN/DN1","L","L1","L2",{"$nulls":4},"HxLxP ","Kč/ks","Netto",null,"Netto  celkem"]
[{"$f":"A210+1","v":175},"HT přechod přímý s pryžovou manžentou","VS0522003","PP02","32/46","24-32","30/40",88,54,26,null,40,320,1920,"970x800x1200",42,{"$f":"P215*(100-$Q$1*100)/100","v":28.14},null,{"$f":"R215*Q215","v":{"v":0,"d":"0.00 Kč"}}]
[{"$f":"A215+1","v":176},"HT přechod přímý s pryžovou manžentou","VS0522007","PP02","40/46","24-32","40/40",88,54,26,null,40,320,1280,"850x800x1200",42,28.14,null,{"v":0,"d":"0.00 Kč"}]
[177,"HT přechod přímý s pryžovou manžentou","VS0522009","PP02","40/46","36-40","40/40",88,54,26,null,40,320,1920,"970x800x1200",42,28.14,null,{"v":0,"d":"0.00 Kč"}]
[178,"HT přechod přímý s pryžovou manžentou","VS0522013","PP02","40/50","24-32","40/50",88,54,28,null,40,320,1280,"850x800x1200",42,28.14,null,{"v":0,"d":"0.00 Kč"}]
[179,"HT přechod přímý s pryžovou manžentou","VS0522015","PP02","40/50","36-40","40/50",88,54,28,null,40,320,1280,"850x800x1200",47,31.49,null,{"v":0,"d":"0.00 Kč"}]
[180,"HT přechod přímý s pryžovou manžentou","VS0522017","PP02","40/53,5","36-40","40/50",70,38,24,null,40,320,1280,"850x800x1200",47,31.49,null,{"v":0,"d":"0.00 Kč"}]
[181,"HT přechod přímý s pryžovou manžentou","VS0522019","PP02","50/53,5","24-32","50/50",88,54,28,null,20,160,960,"970x800x1200",47,31.49,null,{"v":0,"d":"0.00 Kč"}]
[182,"HT přechod přímý s pryžovou manžentou","VS0522021","PP02","50/53,5","36-40","50/50",88,54,26,null,20,160,960,"970x800x1200",48,32.16,null,{"v":0,"d":"0.00 Kč"}]
["HTS"]
["HT přechod přímý s přechodkou na litinu"]
["Číslo","Obrázek výrobku","COD.","CL","D/D1","DN/DN1","L","L1","L2",{"$nulls":5},"HxLxP ","Kč/ks","Netto",null,"Netto  celkem"]
[{"$f":"A222+1","v":183},"HT přechod přímý s přechodkou na litinu","VS0522103","PP02","32/46","30/40",88,54,26,null,null,40,320,1920,"970x800x1200",29,{"$f":"P226*(100-$Q$1*100)/100","v":19.43},null,{"$f":"R226*Q226","v":{"v":0,"d":"0.00 Kč"}}]
[{"$f":"A226+1","v":184},"HT přechod přímý s přechodkou na litinu","VS0522107","PP02","40/46","40/40",88,54,26,null,null,40,320,1920,"970x800x1200",29,19.43,null,{"v":0,"d":"0.00 Kč"}]
[]
["Náhradní díly"]
["HTGM"]
["náhradní pryžová redukce"]
["Číslo","Obrázek výrobku","COD.","CL","D1","D2",{"$nulls":8},"HxLxP ","Kč/ks","Netto",null,"Netto  celkem"]
[{"$f":"A227+1","v":185},"náhradní pryžová redukce","VS0334003 *","CC01",46,"24-32",{"$nulls":5},100,800,8000,"1130x800x1200",14,{"$f":"P233*(100-$Q$1*100)/100","v":9.38},null,{"$f":"R233*Q233","v":{"v":0,"d":"0.00 Kč"}}]
[{"$f":"A233+1","v":186},"náhradní pryžová redukce","VS0334005 *","CC01",46,"36-40",{"$nulls":5},150,1200,7200,"1060x800x1200",14,9.38,null,{"v":0,"d":"0.00 Kč"}]
[187,"náhradní pryžová redukce","VS0523009","PP02",50,"24-32",{"$nulls":5},30,600,4200,"935x800x1200",24,16.08,null,{"v":0,"d":"0.00 Kč"}]
[188,"náhradní pryžová redukce","VS0523011","PP02",50,"36-40",{"$nulls":5},30,600,4200,"935x800x1200",22,14.74,null,{"v":0,"d":"0.00 Kč"}]
[189,"náhradní pryžová redukce","VS0523015","PP02",53.5,"24-32",{"$nulls":5},30,600,4200,"935x800x1200",22,14.74,null,{"v":0,"d":"0.00 Kč"}]
[190,"náhradní pryžová redukce","VS0523017","PP02",53.5,"36-40",{"$nulls":5},30,600,4200,"935x800x1200",22,14.74,null,{"v":0,"d":"0.00 Kč"}]
[191,"náhradní pryžová redukce","VS0523019","PP02",60,"46-55",{"$nulls":5},30,600,4200,"935x800x1200",24,16.08,null,{"v":0,"d":"0.00 Kč"}]
[192,"náhradní pryžová redukce","* Bez: Zubehör-Preiliste",{"$nulls":15},{"v":0,"d":"0.00 Kč"}]
["HTM"]
["HT zátka"]
["Číslo","Obrázek výrobku","COD.","CL","D","DN",{"$nulls":8},"HxLxP ","Kč/ks","Netto",null,"Netto  celkem"]
[{"$f":"A240+1","v":193},"HT zátka","VS0524001","PP02",40,40,{"$nulls":5},40,800,5600,"935x800x1200",14,{"$f":"P244*(100-$Q$1*100)/100","v":9.38},null,{"$f":"R244*Q244","v":{"v":0,"d":"0.00 Kč"}}]
[{"$f":"A244+1","v":194},"HT zátka","VS0524003","PP02",50,50,{"$nulls":5},20,400,2800,"935x800x1200",18,12.06,null,{"v":0,"d":"0.00 Kč"}]
[195,"HT zátka","VS0524005","PP02",75,70,{"$nulls":5},15,300,2100,"935x800x1200",23,15.41,null,{"v":0,"d":"0.00 Kč"}]
[196,"HT zátka","VS0599141","PP02",90,90,{"$nulls":5},30,240,1440,"970x800x1200",24,16.08,null,{"v":0,"d":"0.00 Kč"}]
[197,"HT zátka","VS0524007","PP02",110,100,{"$nulls":5},20,160,960,"970x800x1200",26,17.42,null,{"v":0,"d":"0.00 Kč"}]
[198,"HT zátka","VS0524009","PP02",125,125,{"$nulls":5},10,80,480,"970x800x1200",72,48.24,null,{"v":0,"d":"0.00 Kč"}]
[199,"HT zátka","VS0524011","PP02",160,150,{"$nulls":5},10,80,320,"1010x800x1200",132,88.44,null,{"v":0,"d":"0.00 Kč"}]
["HTEA"]
["HT odbočka 45°, 67°, 87°"]
["Číslo","Obrázek výrobku","COD.","CL","D1/D2","DN1/DN2","α",{"$nulls":7},"HxLxP ","Kč/ks","Netto",null,"Netto  celkem"]
[{"$f":"A250+1","v":200},"HT odbočka 45°, 67°, 87°","VS0508001","PP02","32/32","30/30","45°",{"$nulls":4},40,320,1280,"850x800x1200",41,{"$f":"P254*(100-$Q$1*100)/100","v":27.47},null,{"$f":"R254*Q254","v":{"v":0,"d":"0.00 Kč"}}]
[{"$f":"A254+1","v":201},"HT odbočka 45°, 67°, 87°","VS0508003","PP02","32/32","30/30","67°30'",{"$nulls":4},40,320,1280,"850x800x1200",41,27.47,null,{"v":0,"d":"0.00 Kč"}]
[202,"HT odbočka 45°, 67°, 87°","VS0508005","PP02","32/32","30/30","87°30'",{"$nulls":4},40,320,1280,"850x800x1200",41,27.47,null,{"v":0,"d":"0.00 Kč"}]
[203,"HT odbočka 45°, 67°, 87°","VS0510001","PP02","40/32","40/30","45°",{"$nulls":4},40,320,1280,"1010x800x1200",42,28.14,null,{"v":0,"d":"0.00 Kč"}]
[204,"HT odbočka 45°, 67°, 87°","VS0510003","PP02","40/32","40/30","67°30'",{"$nulls":4},40,320,1280,"1010x800x1200",42,28.14,null,{"v":0,"d":"0.00 Kč"}]
[205,"HT odbočka 45°, 67°, 87°","VS0510005","PP02","40/32","40/30","87°30'",{"$nulls":4},40,320,1280,"1010x800x1200",42,28.14,null,{"v":0,"d":"0.00 Kč"}]
[206,"HT odbočka 45°, 67°, 87°","VS0508007","PP02","40/40","40/40","45°",{"$nulls":4},20,160,640,"850x800x1200",36,24.12,null,{"v":0,"d":"0.00 Kč"}]
[207,"HT odbočka 45°, 67°, 87°","VS0508009","PP02","40/40","40/40","67°30'",{"$nulls":4},20,160,640,"850x800x1200",36,24.12,null,{"v":0,"d":"0.00 Kč"}]
[208,"HT odbočka 45°, 67°, 87°","VS0508011","PP02","40/40","40/40","87°30'",{"$nulls":4},20,160,640,"850x800x1200",36,24.12,null,{"v":0,"d":"0.00 Kč"}]
[209,"HT odbočka 45°, 67°, 87°","VS0510007","PP02","50/40","50/40","45°",{"$nulls":4},20,160,640,"1010x800x1200",48,32.16,null,{"v":0,"d":"0.00 Kč"}]
[210,"HT odbočka 45°, 67°, 87°","VS0510009","PP02","50/40","50/40","67°30'",{"$nulls":4},25,200,800,"1010x800x1200",48,32.16,null,{"v":0,"d":"0.00 Kč"}]
[211,"HT odbočka 45°, 67°, 87°","VS0510011","PP02","50/40","50/40","87°30'",{"$nulls":4},25,200,800,"1010x800x1200",48,32.16,null,{"v":0,"d":"0.00 Kč"}]
[212,"HT odbočka 45°, 67°, 87°","VS0508013","PP02","50/50","50/50","45°",{"$nulls":4},20,160,640,"1010x800x1200",51,34.17,null,{"v":0,"d":"0.00 Kč"}]
[213,"HT odbočka 45°, 67°, 87°","VS0508015","PP02","50/50","50/50","67°30'",{"$nulls":4},20,160,640,"1010x800x1200",51,34.17,null,{"v":0,"d":"0.00 Kč"}]
[214,"HT odbočka 45°, 67°, 87°","VS0508017","PP02","50/50","50/50","87°30'",{"$nulls":4},20,160,640,"1010x800x1200",51,34.17,null,{"v":0,"d":"0.00 Kč"}]
[215,"HT odbočka 45°, 67°, 87°","VS0510013","PP02","75/40","70/40","45°",{"$nulls":4},25,100,300,"853x800x1200",56,37.52,null,{"v":0,"d":"0.00 Kč"}]
[216,"HT odbočka 45°, 67°, 87°","VS0510015","PP02","75/40","70/40","67°30'",{"$nulls":4},25,100,300,"853x800x1200",56,37.52,null,{"v":0,"d":"0.00 Kč"}]
[217,"HT odbočka 45°, 67°, 87°","VS0510017","PP02","75/40","70/40","87°30'",{"$nulls":4},25,100,300,"853x800x1200",56,37.52,null,{"v":0,"d":"0.00 Kč"}]
[218,"HT odbočka 45°, 67°, 87°","VS0510019","PP02","75/50","70/50","45°",{"$nulls":4},25,100,300,"970x800x1200",57,38.19,null,{"v":0,"d":"0.00 Kč"}]
[219,"HT odbočka 45°, 67°, 87°","VS0510021","PP02","75/50","70/50","67°30'",{"$nulls":4},25,100,300,"970x800x1200",57,38.19,null,{"v":0,"d":"0.00 Kč"}]
[220,"HT odbočka 45°, 67°, 87°","VS0510023","PP02","75/50","70/50","87°30'",{"$nulls":4},25,100,300,"853x800x1200",57,38.19,null,{"v":0,"d":"0.00 Kč"}]
[221,"HT odbočka 45°, 67°, 87°","VS0508019","PP02","75/75","70/70","45°",{"$nulls":4},20,80,240,"970x800x1200",65,43.55,null,{"v":0,"d":"0.00 Kč"}]
[222,"HT odbočka 45°, 67°, 87°","VS0508021","PP02","75/75","70/70","67°30'",{"$nulls":4},20,80,240,"970x800x1200",65,43.55,null,{"v":0,"d":"0.00 Kč"}]
[223,"HT odbočka 45°, 67°, 87°","VS0508023","PP02","75/75","70/70","87°30'",{"$nulls":4},20,80,240,"853x800x1200",65,43.55,null,{"v":0,"d":"0.00 Kč"}]
[224,"HT odbočka 45°, 67°, 87°","VS0599061","PP02","90/90","90/90","45°",{"$nulls":4},20,80,160,"940x800x1200",71,47.57,null,{"v":0,"d":"0.00 Kč"}]
[225,"HT odbočka 45°, 67°, 87°","VS0599065","PP02","90/90","90/90","87°30'",{"$nulls":4},20,80,160,"940x800x1200",71,47.57,null,{"v":0,"d":"0.00 Kč"}]
[226,"HT odbočka 45°, 67°, 87°","VS0599071","PP02","90/40","90/40","45°",{"$nulls":4},20,80,240,"853x800x1200",63,42.21,null,{"v":0,"d":"0.00 Kč"}]
[227,"HT odbočka 45°, 67°, 87°","VS0599073","PP02","90/50","90/50","45°",{"$nulls":4},20,80,240,"970x800x1200",63,42.21,null,{"v":0,"d":"0.00 Kč"}]
[228,"HT odbočka 45°, 67°, 87°","VS0599075","PP02","90/40","90/40","87°30'",{"$nulls":4},20,80,240,"853x800x1200",63,42.21,null,{"v":0,"d":"0.00 Kč"}]
[229,"HT odbočka 45°, 67°, 87°","VS0599077","PP02","90/50","90/50","87°30'",{"$nulls":4},20,80,240,"853x800x1200",63,42.21,null,{"v":0,"d":"0.00 Kč"}]
[230,"HT odbočka 45°, 67°, 87°","VS0510025","PP02","110/40","100/40","45°",{"$nulls":4},20,80,160,"940x800x1200",86,57.62,null,{"v":0,"d":"0.00 Kč"}]
[231,"HT odbočka 45°, 67°, 87°","VS0510027","PP02","110/40","100/40","67°30'",{"$nulls":4},20,80,160,"940x800x1200",86,57.62,null,{"$f":"R285*Q285","v":{"v":0,"d":"0.00 Kč"}}]
[232,"HT odbočka 45°, 67°, 87°","VS0510029","PP02","110/40","100/40","87°30'",{"$nulls":4},20,80,240,"1039x800x1200",86,57.62,null,{"v":0,"d":"0.00 Kč"}]
[233,"HT odbočka 45°, 67°, 87°","VS0510031","PP02","110/50","100/50","45°",{"$nulls":4},20,80,160,"940x800x1200",72,48.24,null,{"v":0,"d":"0.00 Kč"}]
[234,"HT odbočka 45°, 67°, 87°","VS0510033","PP02","110/50","100/50","67°30'",{"$nulls":4},20,80,160,"940x800x1200",72,48.24,null,{"v":0,"d":"0.00 Kč"}]
[235,"HT odbočka 45°, 67°, 87°","VS0510035","PP02","110/50","100/50","87°30'",{"$nulls":4},20,80,160,"940x800x1200",72,48.24,null,{"v":0,"d":"0.00 Kč"}]
[236,"HT odbočka 45°, 67°, 87°","VS0510037","PP02","110/75","100/70","45°",{"$nulls":4},15,60,120,"940x800x1200",79,52.93,null,{"v":0,"d":"0.00 Kč"}]
[237,"HT odbočka 45°, 67°, 87°","VS0510039","PP02","110/75","100/70","67°30'",{"$nulls":4},15,60,120,"940x800x1200",79,52.93,null,{"v":0,"d":"0.00 Kč"}]
[238,"HT odbočka 45°, 67°, 87°","VS0510041","PP02","110/75","100/70","87°30'",{"$nulls":4},15,60,120,"940x800x1200",79,52.93,null,{"v":0,"d":"0.00 Kč"}]
[239,"HT odbočka 45°, 67°, 87°","VS0508025","PP02","110/110","100/100","45°",{"$nulls":4},15,60,120,"1150x800x1200",91,60.97,null,{"v":0,"d":"0.00 Kč"}]
[240,"HT odbočka 45°, 67°, 87°","VS0508027","PP02","110/110","100/100","67°30'",{"$nulls":4},20,80,160,"1300x800x1200",91,60.97,null,{"v":0,"d":"0.00 Kč"}]
[241,"HT odbočka 45°, 67°, 87°","VS0508029","PP02","110/110","100/100","87°30'",{"$nulls":4},20,80,160,"1150x800x1200",91,60.97,null,{"v":0,"d":"0.00 Kč"}]
[242,"HT odbočka 45°, 67°, 87°","VS0510043","PP02","125/50","125/50","45°",{"$nulls":4},10,40,120,"970x800x1200",261,174.87,null,{"v":0,"d":"0.00 Kč"}]
[243,"HT odbočka 45°, 67°, 87°","VS0510045 ","PP02","125/50","125/50","67°30'",{"$nulls":4},10,40,120,"1039x800x1200",261,174.87,null,{"v":0,"d":"0.00 Kč"}]
[244,"HT odbočka 45°, 67°, 87°","VS0510047 ","PP02","125/50","125/50","87°30'",{"$nulls":4},10,40,120,"1039x800x1200",261,174.87,null,{"v":0,"d":"0.00 Kč"}]
[245,"HT odbočka 45°, 67°, 87°","VS0510049","PP02","125/110","125/100","45°",{"$nulls":4},8,32,64,"940x800x1200",261,174.87,null,{"v":0,"d":"0.00 Kč"}]
[246,"HT odbočka 45°, 67°, 87°","VS0510051","PP02","125/110","125/100","67°30'",{"$nulls":4},8,32,64,"940x800x1200",261,174.87,null,{"v":0,"d":"0.00 Kč"}]
[247,"HT odbočka 45°, 67°, 87°","VS0510053","PP02","125/110","125/100","87°30'",{"$nulls":4},8,32,96,"1039x800x1200",261,174.87,null,{"v":0,"d":"0.00 Kč"}]
[248,"HT odbočka 45°, 67°, 87°","VS0508031","PP02","125/125","125/125","45°",{"$nulls":4},10,40,80,"1300x800x1200",1100,737,null,{"v":0,"d":"0.00 Kč"}]
[249,"HT odbočka 45°, 67°, 87°","VS0508033","PP02","125/125","125/125","67°30'",{"$nulls":4},5,20,60,"1039x800x1200",1100,737,null,{"v":0,"d":"0.00 Kč"}]
[250,"HT odbočka 45°, 67°, 87°","VS0508035","PP02","125/125","125/125","87°30'",{"$nulls":4},10,40,80,"940x800x1200",1100,737,null,{"v":0,"d":"0.00 Kč"}]
[251,"HT odbočka 45°, 67°, 87°","VS0510061","PP02","160/110","150/100","45°",{"$nulls":4},5,20,40,"940x800x1200",934,625.78,null,{"v":0,"d":"0.00 Kč"}]
[252,"HT odbočka 45°, 67°, 87°","VS0510063","PP02","160/110","150/100","67°30'",{"$nulls":4},5,20,40,"940x800x1200",934,625.78,null,{"v":0,"d":"0.00 Kč"}]
[253,"HT odbočka 45°, 67°, 87°","VS0510065","PP02","160/110","150/100","87°30'",{"$nulls":4},5,20,40,"940x800x1200",934,625.78,null,{"v":0,"d":"0.00 Kč"}]
[254,"HT odbočka 45°, 67°, 87°","VS0510067","PP02","160/125","150/125","45°",{"$nulls":4},5,20,40,"940x800x1200",1341,898.47,null,{"v":0,"d":"0.00 Kč"}]
[255,"HT odbočka 45°, 67°, 87°","VS0510069","PP02","160/125","150/125","67°30'",{"$nulls":4},5,20,40,"940x800x1200",1341,898.47,null,{"v":0,"d":"0.00 Kč"}]
[256,"HT odbočka 45°, 67°, 87°","VS0510071","PP02","160/125","150/125","87°30'",{"$nulls":4},5,20,40,"940x800x1200",1341,898.47,null,{"v":0,"d":"0.00 Kč"}]
[257,"HT odbočka 45°, 67°, 87°","VS0508037","PP02","160/160","150/150","45°",{"$nulls":4},1,"-",30,"930x800x1200",1602,1073.34,null,{"v":0,"d":"0.00 Kč"}]
[258,"HT odbočka 45°, 67°, 87°","VS0508039","PP02","160/160","150/150","67°30'",{"$nulls":4},1,"-",32,"930x800x1200",1602,1073.34,null,{"v":0,"d":"0.00 Kč"}]
[259,"HT odbočka 45°, 67°, 87°","VS0508041","PP02","160/160","150/150","87°30'",{"$nulls":4},4,16,32,"940x800x1200",1602,1073.34,null,{"v":0,"d":"0.00 Kč"}]
["HTU"]
["HT přesuvné hrdlo - hladké hrdlo"]
["Číslo","Obrázek výrobku","COD.","CL","D","DN",{"$nulls":8},"HxLxP ","Kč/ks","Netto",null,"Netto  celkem"]
[{"$f":"A313+1","v":260},"HT přesuvné hrdlo - hladké hrdlo","VS0526000","PP02",32,30,{"$nulls":5},60,480,2880,"970x800x1200",32,{"$f":"P317*(100-$Q$1*100)/100","v":21.44},null,{"$f":"R317*Q317","v":{"v":0,"d":"0.00 Kč"}}]
[{"$f":"A317+1","v":261},"HT přesuvné hrdlo - hladké hrdlo","VS0526001","PP02",40,40,{"$nulls":5},30,240,1440,"970x800x1200",25,16.75,null,{"v":0,"d":"0.00 Kč"}]
[262,"HT přesuvné hrdlo - hladké hrdlo","VS0526003","PP02",50,50,{"$nulls":5},30,240,1440,"970x800x1200",26,17.42,null,{"v":0,"d":"0.00 Kč"}]
[263,"HT přesuvné hrdlo - hladké hrdlo","VS0526005","PP02",75,70,{"$nulls":5},20,160,640,"1010x800x1200",44,29.48,null,{"v":0,"d":"0.00 Kč"}]
[264,"HT přesuvné hrdlo - hladké hrdlo","VS0599101","PP02",90,90,{"$nulls":5},20,160,480,"1015x800x1200",49,32.83,null,{"v":0,"d":"0.00 Kč"}]
[265,"HT přesuvné hrdlo - hladké hrdlo","VS0526007","PP02",110,100,{"$nulls":5},20,80,240,"970x800x1200",54,36.18,null,{"v":0,"d":"0.00 Kč"}]
[266,"HT přesuvné hrdlo - hladké hrdlo","VS0526009","PP02",125,125,{"$nulls":5},20,80,160,"940x800x1200",187,125.29,null,{"v":0,"d":"0.00 Kč"}]
[267,"HT přesuvné hrdlo - hladké hrdlo","VS0526011","PP02",160,150,{"$nulls":5},10,40,80,"940x800x1200",314,210.38,null,{"v":0,"d":"0.00 Kč"}]
["HTMM"]
["HT spojka s středový doraz"]
["Číslo","Obrázek výrobku","COD.","CL","D","DN",{"$nulls":8},"HxLxP ","Kč/ks","Netto",null,"Netto  celkem"]
[{"$f":"A324+1","v":268},"HT spojka s středový doraz","VS0528000","PP02",32,30,{"$nulls":5},60,480,2880,"970x800x1200",32,{"$f":"P328*(100-$Q$1*100)/100","v":21.44},null,{"$f":"R328*Q328","v":{"v":0,"d":"0.00 Kč"}}]
[{"$f":"A328+1","v":269},"HT spojka s středový doraz","VS0528001","PP02",40,40,{"$nulls":5},30,240,1440,"970x800x1200",25,16.75,null,{"v":0,"d":"0.00 Kč"}]
[270,"HT spojka s středový doraz","VS0528003","PP02",50,50,{"$nulls":5},30,240,1440,"970x800x1200",26,17.42,null,{"v":0,"d":"0.00 Kč"}]
[271,"HT spojka s středový doraz","VS0528005","PP02",75,70,{"$nulls":5},20,160,640,"1010x800x1200",44,29.48,null,{"v":0,"d":"0.00 Kč"}]
[272,"HT spojka s středový doraz","VS0599111","PP02",90,90,{"$nulls":5},20,160,480,"1015x800x1200",49,32.83,null,{"v":0,"d":"0.00 Kč"}]
[273,"HT spojka s středový doraz","VS0528007","PP02",110,100,{"$nulls":5},20,80,240,"970x800x1200",54,36.18,null,{"v":0,"d":"0.00 Kč"}]
[274,"HT spojka s středový doraz","VS0528009","PP02",125,125,{"$nulls":5},20,80,160,"940x800x1200",187,125.29,null,{"v":0,"d":"0.00 Kč"}]
[275,"HT spojka s středový doraz","VS0528011","PP02",160,150,{"$nulls":5},10,40,80,"940x800x1200",314,210.38,null,{"v":0,"d":"0.00 Kč"}]
["HTL"]
["HT dlouhé hrdlo-spojka"]
["Číslo","Obrázek výrobku","COD.","CL","D","DN","L","L1","L2",{"$nulls":5},"HxLxP ","Kč/ks","Netto",null,"Netto  celkem"]
[{"$f":"A335+1","v":276},"HT dlouhé hrdlo-spojka","VS0531001","PP02",40,40,165,48,110,null,null,30,240,960,"850x800x1200",56,{"$f":"P339*(100-$Q$1*100)/100","v":37.52},null,{"$f":"R339*Q339","v":{"v":0,"d":"0.00 Kč"}}]
[{"$f":"A339+1","v":277},"HT dlouhé hrdlo-spojka","VS0531015","PP02",50,50,225,50,170,null,null,20,160,640,"850x800x1200",59,39.53,null,{"v":0,"d":"0.00 Kč"}]
[278,"HT dlouhé hrdlo-spojka","VS0531005","PP02",75,70,169,53,123,null,null,20,160,480,"1015x800x1200",69,46.23,null,{"v":0,"d":"0.00 Kč"}]
[279,"HT dlouhé hrdlo-spojka","VS0599121","PP02",90,90,160,59,94,null,null,10,80,320,"1010x800x1200",80,53.6,null,{"v":0,"d":"0.00 Kč"}]
[280,"HT dlouhé hrdlo-spojka","VS0531011","PP02",110,100,245,63,175,null,null,20,80,160,"940x800x1200",91,60.97,null,{"v":0,"d":"0.00 Kč"}]
[281,"HT dlouhé hrdlo-spojka","VS0531009","PP02",125,125,220,70,145,null,null,10,40,120,"853x800x1200",177,118.59,null,{"v":0,"d":"0.00 Kč"}]
[]
["HTUG"]
["HT prodlužovací kus"]
["Číslo","Obrázek výrobku","COD.","CL","D/D1","DN","L",{"$nulls":7},"HxLxP ","Kč/ks","Netto",null,"Netto  celkem"]
[{"$f":"A344+1","v":282},"HT prodlužovací kus","VS0569001","PP02","50/72",50,151,{"$nulls":4},20,160,960,"970x800x1200",72,{"$f":"P349*(100-$Q$1*100)/100","v":48.24},null,{"$f":"R349*Q349","v":{"v":0,"d":"0.00 Kč"}}]
[{"$f":"A349+1","v":283},"HT prodlužovací kus","VS0569003","PP02","75/92",70,148,{"$nulls":4},20,160,640,"1010x800x1200",86,57.62,null,{"v":0,"d":"0.00 Kč"}]
[284,"HT prodlužovací kus","VS0569005","PP02","110/124",100,160,{"$nulls":4},20,80,240,"859x800x1200",116,77.72,null,{"v":0,"d":"0.00 Kč"}]
[285,"HT prodlužovací kus","VS0569007","PP02","125/151",125,184,{"$nulls":4},10,40,120,"853x800x1200",575,385.25,null,{"v":0,"d":"0.00 Kč"}]
[]
["HT náhradní díly"]
["Těsnění pro HTUG"]
["Číslo","Obrázek výrobku","COD.","CL","D",{"$nulls":9},"HxLxP ","Kč/ks","Netto",null,"Netto  celkem"]
[{"$f":"A352+1","v":286},"Těsnění pro HTUG","VS0581005","PP02",72,{"$nulls":6},20,400,2800,"935x800x1200",32,{"$f":"P357*(100-$Q$1*100)/100","v":21.44},null,{"$f":"R357*Q357","v":{"v":0,"d":"0.00 Kč"}}]
[{"$f":"A357+1","v":287},"Těsnění pro HTUG","VS0581007","PP02",92,{"$nulls":6},20,400,2800,"935x800x1200",43,28.81,null,{"v":0,"d":"0.00 Kč"}]
[288,"Těsnění pro HTUG","VS0581011","PP02",124,{"$nulls":6},20,160,1280,"930x800x1200",48,32.16,null,{"v":0,"d":"0.00 Kč"}]
[289,"Těsnění pro HTUG","VS0581013","PP02",151,{"$nulls":6},5,100,700,"935x800x1200",67,44.89,null,{"v":0,"d":"0.00 Kč"}]
[]
["HT náhradní břitový těsnící kroužek"]
["Číslo","Obrázek výrobku","COD.","CL","D",{"$nulls":10},"Kč/ks","Netto",null,"Netto  celkem"]
[{"$f":"A360+1","v":290},"HT náhradní břitový těsnící kroužek","VS0391001","CC01",32,{"$nulls":9},50,4,{"$f":"P364*(100-$Q$1*100)/100","v":2.68},null,{"$f":"R364*Q364","v":{"v":0,"d":"0.00 Kč"}}]
[{"$f":"A364+1","v":291},"HT náhradní břitový těsnící kroužek","VS0391003","CC01",40,{"$nulls":9},50,4,2.68,null,{"v":0,"d":"0.00 Kč"}]
[292,"HT náhradní břitový těsnící kroužek","VS0391005","CC01",50,{"$nulls":9},50,5,3.35,null,{"v":0,"d":"0.00 Kč"}]
[293,"HT náhradní břitový těsnící kroužek","VS0391011","CC01",75,{"$nulls":9},20,8,5.36,null,{"v":0,"d":"0.00 Kč"}]
[294,"HT náhradní břitový těsnící kroužek","VS0391013","CC01",90,{"$nulls":9},20,10,6.7,null,{"v":0,"d":"0.00 Kč"}]
[295,"HT náhradní břitový těsnící kroužek","VS0391015","CC01",110,{"$nulls":9},20,11,7.37,null,{"v":0,"d":"0.00 Kč"}]
[296,"HT náhradní břitový těsnící kroužek","VS0391017","CC01",125,{"$nulls":9},20,18,12.06,null,{"v":0,"d":"0.00 Kč"}]
[297,"HT náhradní břitový těsnící kroužek","VS0391019","CC01",160,{"$nulls":9},20,24,16.08,null,{"v":0,"d":"0.00 Kč"}]
["HT redukce"]
["Číslo","Obrázek výrobku","COD.","CL","D/D1","DN/DN1",{"$nulls":8},"HxLxP ","Kč/ks","Netto",null,"Netto  celkem"]
[{"$f":"A371+1","v":298},"HT redukce","VS0513000","PP02","40/32","40/30",{"$nulls":5},100,800,4800,"970x800x1200",41,{"$f":"P374*(100-$Q$1*100)/100","v":27.47},null,{"$f":"R374*Q374","v":{"v":0,"d":"0.00 Kč"}}]
[{"$f":"A374+1","v":299},"HT redukce","VS0513001","PP02","50/40","50/40",{"$nulls":5},80,640,3200,"1030x800x1200",41,27.47,null,{"v":0,"d":"0.00 Kč"}]
[300,"HT redukce","VS0599135","PP02","90/75","90/70",{"$nulls":5},20,160,640,"850x800x1200",42,28.14,null,{"v":0,"d":"0.00 Kč"}]
[301,"HT redukce","VS0599137","PP02","110/90","100/90",{"$nulls":5},20,160,640,"1010x800x1200",42,28.14,null,{"v":0,"d":"0.00 Kč"}]
[]
["HT odvzušňovací ventil (PVC barva šedá)"]
["Číslo","Obrázek výrobku","COD.","CL","D ","DN",{"$nulls":8},"HxLxP ","Kč/ks","Netto",null,"Netto  celkem"]
[{"$f":"A377+1","v":302},"HT odvzušňovací ventil (PVC barva šedá)","VS0394001","CC01",50,50,{"$nulls":5},10,30,120,"120x800x1200",467,{"$f":"P381*(100-$Q$1*100)/100","v":312.89},null,{"$f":"R381*Q381","v":{"v":0,"d":"0.00 Kč"}}]
[{"$f":"A381+1","v":303},"HT odvzušňovací ventil (PVC barva šedá)","VS0394003","CC01",75,70,{"$nulls":5},5,15,60,"120x800x1200",519,347.73,null,{"v":0,"d":"0.00 Kč"}]
[304,"HT odvzušňovací ventil (PVC barva šedá)","VS0394005","CC01",110,100,{"$nulls":5},5,15,45,"120x800x1200",585,391.95,null,{"v":0,"d":"0.00 Kč"}]
[]
["HT náhradní víčko pro čistící kusy"]
["Číslo","Obrázek výrobku","COD.","CL","DN",{"$nulls":10},"Kč/ks","Netto",null,"Netto  celkem"]
[{"$f":"A383+1","v":305},"HT náhradní víčko pro čistící kusy","VS0516075","CC01",70,{"$nulls":9},1,58,{"$f":"P387*(100-$Q$1*100)/100","v":38.86},null,{"$f":"R387*Q387","v":{"v":0,"d":"0.00 Kč"}}]
[{"$f":"A387+1","v":306},"HT náhradní víčko pro čistící kusy","VS0516110","CC01",100,{"$nulls":9},1,61,40.87,null,{"v":0,"d":"0.00 Kč"}]
["HT vazelína"]
["Číslo","Obrázek výrobku","COD.","CL","g",{"$nulls":10},"Kč/ks","Netto",null,"Netto  celkem"]
[{"$f":"A388+1","v":307},"HT vazelína","VS0900001","CC01",150,{"$nulls":9},50,45,{"$f":"P391*(100-$Q$1*100)/100","v":30.15},null,{"$f":"R391*Q391","v":{"v":0,"d":"0.00 Kč"}}]
[{"$f":"A391+1","v":308},"HT vazelína","VS0900003","CC01",250,{"$nulls":9},50,55,36.85,null,{"v":0,"d":"0.00 Kč"}]
[]
["CELKEM bez DPH"]

{"sheet":"Celková objednávka","index":2,"n_rows":11,"n_cols":5,"rows_kept":11}
[null,"CELKOVÁ OBJEDNÁVKA"]
["Dodavatel:",null,"Objednavatel:"]
["Genova Bohemia s.r.o.",null,{"$f":"'Registrace zákazníka'!D5","v":"zde vyplňte"}]
["Vídeňská 573",null,{"$f":"'Registrace zákazníka'!D6","v":"zde vyplňte"}]
["Vestec u Prahy ",null,{"$f":"'Registrace zákazníka'!D7","v":"zde vyplňte"}]
[null,null,{"$f":"'Registrace zákazníka'!D8","v":"zde vyplňte"}]
["DIČ: CZ26188651",null,{"$f":"'Registrace zákazníka'!D9","v":"zde vyplňte"}]
["Tel: 244 911 283",null,{"$f":"'Registrace zákazníka'!D10","v":"zde vyplňte"}]
[null,null,{"$f":"'Registrace zákazníka'!D11","v":"zde vyplňte"}]
[]
["objednací kod","název a popis výrobku","objed. Ks","cena po slevě","celkem objednáno"]